BEGIN:VCALENDAR
VERSION:2.0
PRODID:-//hacksw/handcal//NONSGML v1.0//EN
CALSCALE:GREGORIAN
BEGIN:VEVENT
DTSTART:20141208T113000Z
DTEND:20141208T113000Z
UID:e15248
DTSTAMP:20260425T072014Z
LOCATION:Jacob Ziskind Building
DESCRIPTION:A Simple and Approximately Optimal Mechanism  for an Additive Buyer
SUMMARY:A Simple and Approximately Optimal Mechanism  for an Additive Buyer
END:VEVENT
END:VCALENDAR