BEGIN:VCALENDAR
VERSION:2.0
PRODID:-//hacksw/handcal//NONSGML v1.0//EN
CALSCALE:GREGORIAN
BEGIN:VEVENT
DTSTART:20150111T100000Z
DTEND:20150111T100000Z
UID:e15265
DTSTAMP:20260424T180021Z
LOCATION:Arthur and Rochelle Belfer Building for Biomedical Research
DESCRIPTION:Regulating a Ubiquitin-Like Pathway In Autophagy
SUMMARY:Regulating a Ubiquitin-Like Pathway In Autophagy
END:VEVENT
END:VCALENDAR