BEGIN:VCALENDAR
VERSION:2.0
PRODID:-//hacksw/handcal//NONSGML v1.0//EN
CALSCALE:GREGORIAN
BEGIN:VEVENT
DTSTART:20141203T081500Z
DTEND:20141203T081500Z
UID:e15280
DTSTAMP:20260422T145015Z
LOCATION:Jacob Ziskind Building
DESCRIPTION:Quality Preserving Databases: Statistically Sound and Efficient Use of Public Databases for an Infinite Sequence of Tests
SUMMARY:Quality Preserving Databases: Statistically Sound and Efficient Use of Public Databases for an Infinite Sequence of Tests
END:VEVENT
END:VCALENDAR