BEGIN:VCALENDAR
VERSION:2.0
PRODID:-//hacksw/handcal//NONSGML v1.0//EN
CALSCALE:GREGORIAN
BEGIN:VEVENT
DTSTART:20141222T101500Z
DTEND:20141222T110000Z
UID:e15291
DTSTAMP:20260423T084734Z
LOCATION:Edna and K.B. Weissman Building of Physical Sciences
DESCRIPTION:Probing general relativity\, alternative theories of gravity\, and relativistic geodesy with atomic clocks
SUMMARY:Probing general relativity\, alternative theories of gravity\, and relativistic geodesy with atomic clocks
END:VEVENT
END:VCALENDAR