BEGIN:VCALENDAR
VERSION:2.0
PRODID:-//hacksw/handcal//NONSGML v1.0//EN
CALSCALE:GREGORIAN
BEGIN:VEVENT
DTSTART:20141204T110000Z
DTEND:20141204T113000Z
UID:e15294
DTSTAMP:20260422T145005Z
LOCATION:Arthur and Rochelle Belfer Building for Biomedical Research
DESCRIPTION:Aptamers targeting growth factor receptors
SUMMARY:Aptamers targeting growth factor receptors
END:VEVENT
END:VCALENDAR