BEGIN:VCALENDAR
VERSION:2.0
PRODID:-//hacksw/handcal//NONSGML v1.0//EN
CALSCALE:GREGORIAN
BEGIN:VEVENT
DTSTART:20141209T080000Z
DTEND:20141209T093000Z
UID:e15304
DTSTAMP:20260424T050206Z
LOCATION:Gerhard M.J. Schmidt Lecture Hall
DESCRIPTION:"Expanded Porphyrins: Macrocycles Containing Pyrrole\, Pyridine\, and Furan"
SUMMARY:"Expanded Porphyrins: Macrocycles Containing Pyrrole\, Pyridine\, and Furan"
END:VEVENT
END:VCALENDAR