BEGIN:VCALENDAR
VERSION:2.0
PRODID:-//hacksw/handcal//NONSGML v1.0//EN
CALSCALE:GREGORIAN
BEGIN:VEVENT
DTSTART:20141209T110000Z
DTEND:20141209T110000Z
UID:e15308
DTSTAMP:20260425T072020Z
LOCATION:Helen and Milton A. Kimmelman Building
DESCRIPTION:"Structure-Function of the Slit-Robo-srGAP Signaling Axis"
SUMMARY:"Structure-Function of the Slit-Robo-srGAP Signaling Axis"
END:VEVENT
END:VCALENDAR