BEGIN:VCALENDAR
VERSION:2.0
PRODID:-//hacksw/handcal//NONSGML v1.0//EN
CALSCALE:GREGORIAN
BEGIN:VEVENT
DTSTART:20141214T120000Z
DTEND:20141214T130000Z
UID:e15309
DTSTAMP:20260423T065753Z
LOCATION:
DESCRIPTION:Keeping it personal: novel aspects in metabolic syndrome research
SUMMARY:Keeping it personal: novel aspects in metabolic syndrome research
END:VEVENT
END:VCALENDAR