BEGIN:VCALENDAR
VERSION:2.0
PRODID:-//hacksw/handcal//NONSGML v1.0//EN
CALSCALE:GREGORIAN
BEGIN:VEVENT
DTSTART:20141216T093000Z
DTEND:20141216T093000Z
UID:e15312
DTSTAMP:20260424T050208Z
LOCATION:Gerhard M.J. Schmidt Lecture Hall
DESCRIPTION:Intercellular Communications in Sensory Ganglia Involving Neurons and Satellite Glial Cells: Implications for Chronic Pain
SUMMARY:Intercellular Communications in Sensory Ganglia Involving Neurons and Satellite Glial Cells: Implications for Chronic Pain
END:VEVENT
END:VCALENDAR