BEGIN:VCALENDAR
VERSION:2.0
PRODID:-//hacksw/handcal//NONSGML v1.0//EN
CALSCALE:GREGORIAN
BEGIN:VEVENT
DTSTART:20141207T080000Z
DTEND:20141207T080000Z
UID:e15319
DTSTAMP:20260422T145006Z
LOCATION:Perlman Chemical Sciences Building
DESCRIPTION:Polyelectrolytes in multivalent ionic media: New physics and new materials
SUMMARY:Polyelectrolytes in multivalent ionic media: New physics and new materials
END:VEVENT
END:VCALENDAR