BEGIN:VCALENDAR
VERSION:2.0
PRODID:-//hacksw/handcal//NONSGML v1.0//EN
CALSCALE:GREGORIAN
BEGIN:VEVENT
DTSTART:20141223T080000Z
DTEND:20141223T080000Z
UID:e15323
DTSTAMP:20260424T050201Z
LOCATION:Sussman Family Building for Environmental Sciences
DESCRIPTION:Dynamics of the Madden-Julian oscillation
SUMMARY:Dynamics of the Madden-Julian oscillation
END:VEVENT
END:VCALENDAR