BEGIN:VCALENDAR
VERSION:2.0
PRODID:-//hacksw/handcal//NONSGML v1.0//EN
CALSCALE:GREGORIAN
BEGIN:VEVENT
DTSTART:20141231T080000Z
DTEND:20141231T080000Z
UID:e15345
DTSTAMP:20260423T033835Z
LOCATION:Jacob Ziskind Building
DESCRIPTION:Non-commutative geometry  and non-commutative integrable systems
SUMMARY:Non-commutative geometry  and non-commutative integrable systems
END:VEVENT
END:VCALENDAR