BEGIN:VCALENDAR
VERSION:2.0
PRODID:-//hacksw/handcal//NONSGML v1.0//EN
CALSCALE:GREGORIAN
BEGIN:VEVENT
DTSTART:20141208T080000Z
DTEND:20141208T080000Z
UID:e15347
DTSTAMP:20260424T112617Z
LOCATION:Sussman Family Building for Environmental Sciences
DESCRIPTION:On Cloud States\, Transitions\, and Sisyphus
SUMMARY:On Cloud States\, Transitions\, and Sisyphus
END:VEVENT
END:VCALENDAR