BEGIN:VCALENDAR
VERSION:2.0
PRODID:-//hacksw/handcal//NONSGML v1.0//EN
CALSCALE:GREGORIAN
BEGIN:VEVENT
DTSTART:20141211T081500Z
DTEND:20141211T081500Z
UID:e15355
DTSTAMP:20260422T145012Z
LOCATION:
DESCRIPTION:Genomic Segment Sharing: Theory\, Demographic Inference\, and Implications for Ashkenazi Jewish Genetics
SUMMARY:Genomic Segment Sharing: Theory\, Demographic Inference\, and Implications for Ashkenazi Jewish Genetics
END:VEVENT
END:VCALENDAR