BEGIN:VCALENDAR
VERSION:2.0
PRODID:-//hacksw/handcal//NONSGML v1.0//EN
CALSCALE:GREGORIAN
BEGIN:VEVENT
DTSTART:20141211T080500Z
DTEND:20141211T080500Z
UID:e15359
DTSTAMP:20260422T145003Z
LOCATION:Jacob Ziskind Building
DESCRIPTION:On the random interchange model and quantum spin systems 
SUMMARY:On the random interchange model and quantum spin systems 
END:VEVENT
END:VCALENDAR