BEGIN:VCALENDAR
VERSION:2.0
PRODID:-//hacksw/handcal//NONSGML v1.0//EN
CALSCALE:GREGORIAN
BEGIN:VEVENT
DTSTART:20141216T120000Z
DTEND:20141216T120000Z
UID:e15364
DTSTAMP:20260422T182757Z
LOCATION:Ullmann Building of Life Sciences
DESCRIPTION:MNF Seminar
SUMMARY:MNF Seminar
END:VEVENT
END:VCALENDAR