BEGIN:VCALENDAR
VERSION:2.0
PRODID:-//hacksw/handcal//NONSGML v1.0//EN
CALSCALE:GREGORIAN
BEGIN:VEVENT
DTSTART:20141229T113000Z
DTEND:20141229T113000Z
UID:e15368
DTSTAMP:20260423T033835Z
LOCATION:Jacob Ziskind Building
DESCRIPTION:Aspects of Submodular Maximization Subject to a Matroid Constraint
SUMMARY:Aspects of Submodular Maximization Subject to a Matroid Constraint
END:VEVENT
END:VCALENDAR