BEGIN:VCALENDAR
VERSION:2.0
PRODID:-//hacksw/handcal//NONSGML v1.0//EN
CALSCALE:GREGORIAN
BEGIN:VEVENT
DTSTART:20141218T110000Z
DTEND:20141218T110000Z
UID:e15378
DTSTAMP:20260423T084734Z
LOCATION:Jacob Ziskind Building
DESCRIPTION:Lipschitz contact equivalence of functions in two variables 
SUMMARY:Lipschitz contact equivalence of functions in two variables 
END:VEVENT
END:VCALENDAR