BEGIN:VCALENDAR
VERSION:2.0
PRODID:-//hacksw/handcal//NONSGML v1.0//EN
CALSCALE:GREGORIAN
BEGIN:VEVENT
DTSTART:20141216T090000Z
DTEND:20141216T090000Z
UID:e15380
DTSTAMP:20260423T155406Z
LOCATION:
DESCRIPTION:THE CONFORMAL BOOTSTRAP FOR MAXIMALLY SUPERSYMMETRIC THEORIES IN THREE DIMENSIONS
SUMMARY:THE CONFORMAL BOOTSTRAP FOR MAXIMALLY SUPERSYMMETRIC THEORIES IN THREE DIMENSIONS
END:VEVENT
END:VCALENDAR