BEGIN:VCALENDAR
VERSION:2.0
PRODID:-//hacksw/handcal//NONSGML v1.0//EN
CALSCALE:GREGORIAN
BEGIN:VEVENT
DTSTART:20141231T081500Z
DTEND:20141231T090000Z
UID:e15388
DTSTAMP:20260423T084725Z
LOCATION:Nella and Leon Benoziyo Physics Building
DESCRIPTION:First results from the Dark Energy Survey
SUMMARY:First results from the Dark Energy Survey
END:VEVENT
END:VCALENDAR