BEGIN:VCALENDAR
VERSION:2.0
PRODID:-//hacksw/handcal//NONSGML v1.0//EN
CALSCALE:GREGORIAN
BEGIN:VEVENT
DTSTART:20141221T081500Z
DTEND:20141221T081500Z
UID:e15392
DTSTAMP:20260423T084742Z
LOCATION:Ullmann Building of Life Sciences
DESCRIPTION:Plant Tissue Culture - an useful tool in advanced biotechnology
SUMMARY:Plant Tissue Culture - an useful tool in advanced biotechnology
END:VEVENT
END:VCALENDAR