BEGIN:VCALENDAR
VERSION:2.0
PRODID:-//hacksw/handcal//NONSGML v1.0//EN
CALSCALE:GREGORIAN
BEGIN:VEVENT
DTSTART:20141223T081500Z
DTEND:20141223T081500Z
UID:e15394
DTSTAMP:20260423T084733Z
LOCATION:Ullmann Building of Life Sciences
DESCRIPTION:Phylogenomic transduction networks reveal genetic barriers for phage-mediated gene transfer during microbial evolution
SUMMARY:Phylogenomic transduction networks reveal genetic barriers for phage-mediated gene transfer during microbial evolution
END:VEVENT
END:VCALENDAR