BEGIN:VCALENDAR
VERSION:2.0
PRODID:-//hacksw/handcal//NONSGML v1.0//EN
CALSCALE:GREGORIAN
BEGIN:VEVENT
DTSTART:20141228T081500Z
DTEND:20141228T081500Z
UID:e15395
DTSTAMP:20260423T084739Z
LOCATION:Ullmann Building of Life Sciences
DESCRIPTION:Tomato trichome specialized metabolism: evolutionary diversity and in vitro reconstruction
SUMMARY:Tomato trichome specialized metabolism: evolutionary diversity and in vitro reconstruction
END:VEVENT
END:VCALENDAR