BEGIN:VCALENDAR
VERSION:2.0
PRODID:-//hacksw/handcal//NONSGML v1.0//EN
CALSCALE:GREGORIAN
BEGIN:VEVENT
DTSTART:20141224T081500Z
DTEND:20141224T081500Z
UID:e15396
DTSTAMP:20260423T084736Z
LOCATION:Jacob Ziskind Building
DESCRIPTION:Scalable algorithms for translating natural language to logical form
SUMMARY:Scalable algorithms for translating natural language to logical form
END:VEVENT
END:VCALENDAR