BEGIN:VCALENDAR
VERSION:2.0
PRODID:-//hacksw/handcal//NONSGML v1.0//EN
CALSCALE:GREGORIAN
BEGIN:VEVENT
DTSTART:20150210T080000Z
DTEND:20150210T080000Z
UID:e15397
DTSTAMP:20260420T091547Z
LOCATION:Jacob Ziskind Building
DESCRIPTION:Grounds states of the stationary Choquard equations 
SUMMARY:Grounds states of the stationary Choquard equations 
END:VEVENT
END:VCALENDAR