BEGIN:VCALENDAR
VERSION:2.0
PRODID:-//hacksw/handcal//NONSGML v1.0//EN
CALSCALE:GREGORIAN
BEGIN:VEVENT
DTSTART:20141230T081500Z
DTEND:20141230T081500Z
UID:e15399
DTSTAMP:20260423T033854Z
LOCATION:Ullmann Building of Life Sciences
DESCRIPTION:Centromere Epigenetics in Maize: On\, Off\, On Again and De Novo Activities reveal a dynamic specification of centromere function
SUMMARY:Centromere Epigenetics in Maize: On\, Off\, On Again and De Novo Activities reveal a dynamic specification of centromere function
END:VEVENT
END:VCALENDAR