BEGIN:VCALENDAR
VERSION:2.0
PRODID:-//hacksw/handcal//NONSGML v1.0//EN
CALSCALE:GREGORIAN
BEGIN:VEVENT
DTSTART:20141225T090000Z
DTEND:20141225T090000Z
UID:e15403
DTSTAMP:20260424T180027Z
LOCATION:Jacob Ziskind Building
DESCRIPTION:RingIt: Ring-ordering Casual Photos of a Dynamic Event
SUMMARY:RingIt: Ring-ordering Casual Photos of a Dynamic Event
END:VEVENT
END:VCALENDAR