BEGIN:VCALENDAR
VERSION:2.0
PRODID:-//hacksw/handcal//NONSGML v1.0//EN
CALSCALE:GREGORIAN
BEGIN:VEVENT
DTSTART:20141229T111500Z
DTEND:20141229T111500Z
UID:e15411
DTSTAMP:20260424T023921Z
LOCATION:Edna and K.B. Weissman Building of Physical Sciences
DESCRIPTION:Surprising spin-orbit effects in organic 
SUMMARY:Surprising spin-orbit effects in organic 
END:VEVENT
END:VCALENDAR