BEGIN:VCALENDAR
VERSION:2.0
PRODID:-//hacksw/handcal//NONSGML v1.0//EN
CALSCALE:GREGORIAN
BEGIN:VEVENT
DTSTART:20141216T080000Z
DTEND:20141216T090000Z
UID:e15414
DTSTAMP:20260422T182617Z
LOCATION:Helen and Milton A. Kimmelman Building
DESCRIPTION:"Infrared-derived parameters for selectivity prediction and mechanism elucidation"
SUMMARY:"Infrared-derived parameters for selectivity prediction and mechanism elucidation"
END:VEVENT
END:VCALENDAR