BEGIN:VCALENDAR
VERSION:2.0
PRODID:-//hacksw/handcal//NONSGML v1.0//EN
CALSCALE:GREGORIAN
BEGIN:VEVENT
DTSTART:20150109T080000Z
DTEND:20150109T100000Z
UID:e15416
DTSTAMP:20260423T194532Z
LOCATION:Dolfi and Lola Ebner Auditorium
DESCRIPTION:The greek magic 
SUMMARY:The greek magic 
END:VEVENT
END:VCALENDAR