BEGIN:VCALENDAR
VERSION:2.0
PRODID:-//hacksw/handcal//NONSGML v1.0//EN
CALSCALE:GREGORIAN
BEGIN:VEVENT
DTSTART:20141218T073000Z
DTEND:20141218T073000Z
UID:e15419
DTSTAMP:20260423T155419Z
LOCATION:Jacob Ziskind Building
DESCRIPTION:Plunnecke inequalities in countable abelian groups - general case
SUMMARY:Plunnecke inequalities in countable abelian groups - general case
END:VEVENT
END:VCALENDAR