BEGIN:VCALENDAR
VERSION:2.0
PRODID:-//hacksw/handcal//NONSGML v1.0//EN
CALSCALE:GREGORIAN
BEGIN:VEVENT
DTSTART:20141231T081500Z
DTEND:20141231T093000Z
UID:e15423
DTSTAMP:20260423T155412Z
LOCATION:Edna and K.B. Weissman Building of Physical Sciences
DESCRIPTION:Seminar in Systems Biology
SUMMARY:Seminar in Systems Biology
END:VEVENT
END:VCALENDAR