BEGIN:VCALENDAR
VERSION:2.0
PRODID:-//hacksw/handcal//NONSGML v1.0//EN
CALSCALE:GREGORIAN
BEGIN:VEVENT
DTSTART:20141223T100000Z
DTEND:20141223T100000Z
UID:e15442
DTSTAMP:20260423T084732Z
LOCATION:
DESCRIPTION:Classification of spherical quadrilaterals 
SUMMARY:Classification of spherical quadrilaterals 
END:VEVENT
END:VCALENDAR