BEGIN:VCALENDAR
VERSION:2.0
PRODID:-//hacksw/handcal//NONSGML v1.0//EN
CALSCALE:GREGORIAN
BEGIN:VEVENT
DTSTART:20150101T091500Z
DTEND:20150101T091500Z
UID:e15443
DTSTAMP:20260424T050200Z
LOCATION:Jacob Ziskind Building
DESCRIPTION:Towards Dense Correspondences Between Any Two Images 
SUMMARY:Towards Dense Correspondences Between Any Two Images 
END:VEVENT
END:VCALENDAR