BEGIN:VCALENDAR
VERSION:2.0
PRODID:-//hacksw/handcal//NONSGML v1.0//EN
CALSCALE:GREGORIAN
BEGIN:VEVENT
DTSTART:20141231T093000Z
DTEND:20141231T093000Z
UID:e15447
DTSTAMP:20260423T084741Z
LOCATION:
DESCRIPTION:Experience-dependent plasticity in amputees
SUMMARY:Experience-dependent plasticity in amputees
END:VEVENT
END:VCALENDAR