BEGIN:VCALENDAR
VERSION:2.0
PRODID:-//hacksw/handcal//NONSGML v1.0//EN
CALSCALE:GREGORIAN
BEGIN:VEVENT
DTSTART:20141228T080000Z
DTEND:20141228T080000Z
UID:e15454
DTSTAMP:20260423T084740Z
LOCATION:Perlman Chemical Sciences Building
DESCRIPTION:Mechanics and dynamics of lipid bilayer membranes: extracting bending moduli from molecular dynamics  simulations and modeling transport in the membrane plane
SUMMARY:Mechanics and dynamics of lipid bilayer membranes: extracting bending moduli from molecular dynamics  simulations and modeling transport in the membrane plane
END:VEVENT
END:VCALENDAR