BEGIN:VCALENDAR
VERSION:2.0
PRODID:-//hacksw/handcal//NONSGML v1.0//EN
CALSCALE:GREGORIAN
BEGIN:VEVENT
DTSTART:20141229T110000Z
DTEND:20141229T110000Z
UID:e15468
DTSTAMP:20260423T005204Z
LOCATION:The David Lopatie Hall of Graduate Studies
DESCRIPTION:"The gizzard plates in the Cephalaspidean gastropod Philine aperta: analysis of structure and function"
SUMMARY:"The gizzard plates in the Cephalaspidean gastropod Philine aperta: analysis of structure and function"
END:VEVENT
END:VCALENDAR