BEGIN:VCALENDAR
VERSION:2.0
PRODID:-//hacksw/handcal//NONSGML v1.0//EN
CALSCALE:GREGORIAN
BEGIN:VEVENT
DTSTART:20150111T100000Z
DTEND:20150111T100000Z
UID:e15474
DTSTAMP:20260424T075626Z
LOCATION:Gerhard M.J. Schmidt Lecture Hall
DESCRIPTION:Optimizing Photosynthesis to Create Hydrogen Power-AERI-Alternative Sustainable Energy Research Initiative-Seminar Series
SUMMARY:Optimizing Photosynthesis to Create Hydrogen Power-AERI-Alternative Sustainable Energy Research Initiative-Seminar Series
END:VEVENT
END:VCALENDAR