BEGIN:VCALENDAR
VERSION:2.0
PRODID:-//hacksw/handcal//NONSGML v1.0//EN
CALSCALE:GREGORIAN
BEGIN:VEVENT
DTSTART:20141231T110000Z
DTEND:20141231T110000Z
UID:e15475
DTSTAMP:20260424T023926Z
LOCATION:Gerhard M.J. Schmidt Lecture Hall
DESCRIPTION:Developing Enzyme Drugs to Prevent and Treat Nerve-Gas Intoxications
SUMMARY:Developing Enzyme Drugs to Prevent and Treat Nerve-Gas Intoxications
END:VEVENT
END:VCALENDAR