BEGIN:VCALENDAR
VERSION:2.0
PRODID:-//hacksw/handcal//NONSGML v1.0//EN
CALSCALE:GREGORIAN
BEGIN:VEVENT
DTSTART:20150101T130000Z
DTEND:20150101T150000Z
UID:e15481
DTSTAMP:20260423T234743Z
LOCATION:
DESCRIPTION:Peletron meetings
SUMMARY:Peletron meetings
END:VEVENT
END:VCALENDAR