BEGIN:VCALENDAR
VERSION:2.0
PRODID:-//hacksw/handcal//NONSGML v1.0//EN
CALSCALE:GREGORIAN
BEGIN:VEVENT
DTSTART:20150625T130000Z
DTEND:20150625T150000Z
UID:e15486
DTSTAMP:20260421T085230Z
LOCATION:
DESCRIPTION:Peletron meeting
SUMMARY:Peletron meeting
END:VEVENT
END:VCALENDAR