BEGIN:VCALENDAR
VERSION:2.0
PRODID:-//hacksw/handcal//NONSGML v1.0//EN
CALSCALE:GREGORIAN
BEGIN:VEVENT
DTSTART:20150111T080000Z
DTEND:20150111T080000Z
UID:e15520
DTSTAMP:20260425T170956Z
LOCATION:Sussman Family Building for Environmental Sciences
DESCRIPTION:The influence of submesoscale motions on the ocean surface boundary layer - year-long observations from ocean gliders
SUMMARY:The influence of submesoscale motions on the ocean surface boundary layer - year-long observations from ocean gliders
END:VEVENT
END:VCALENDAR