BEGIN:VCALENDAR
VERSION:2.0
PRODID:-//hacksw/handcal//NONSGML v1.0//EN
CALSCALE:GREGORIAN
BEGIN:VEVENT
DTSTART:20150111T080000Z
DTEND:20150111T080000Z
UID:e15531
DTSTAMP:20260425T122852Z
LOCATION:Perlman Chemical Sciences Building
DESCRIPTION:Cryo EM in the Study of Nanostructured Liquids\,  an Update
SUMMARY:Cryo EM in the Study of Nanostructured Liquids\,  an Update
END:VEVENT
END:VCALENDAR