BEGIN:VCALENDAR
VERSION:2.0
PRODID:-//hacksw/handcal//NONSGML v1.0//EN
CALSCALE:GREGORIAN
BEGIN:VEVENT
DTSTART:20150908T160000Z
DTEND:20150908T193000Z
UID:e15556
DTSTAMP:20260420T122236Z
LOCATION:
DESCRIPTION:Faculty of Life Sciences Alumni Event
SUMMARY:Faculty of Life Sciences Alumni Event
END:VEVENT
END:VCALENDAR