BEGIN:VCALENDAR
VERSION:2.0
PRODID:-//hacksw/handcal//NONSGML v1.0//EN
CALSCALE:GREGORIAN
BEGIN:VEVENT
DTSTART:20150301T100000Z
DTEND:20150301T100000Z
UID:e15566
DTSTAMP:20260424T223658Z
LOCATION:Arthur and Rochelle Belfer Building for Biomedical Research
DESCRIPTION:Swap-N-Tag: a new tool for systematic characterization of yeast proteins
SUMMARY:Swap-N-Tag: a new tool for systematic characterization of yeast proteins
END:VEVENT
END:VCALENDAR