BEGIN:VCALENDAR
VERSION:2.0
PRODID:-//hacksw/handcal//NONSGML v1.0//EN
CALSCALE:GREGORIAN
BEGIN:VEVENT
DTSTART:20150415T080000Z
DTEND:20150415T093000Z
UID:e15633
DTSTAMP:20260419T100417Z
LOCATION:Michael Sela Auditorium
DESCRIPTION:G-INCPM - Special Guest Seminar - Prof. Ray Cooper\, Dept. Applied Biology & Chemical Technology\, The Hong Kong Polytechnic Univ. - Chinese and Botanical Medicines: Myth or Treasure?
SUMMARY:G-INCPM - Special Guest Seminar - Prof. Ray Cooper\, Dept. Applied Biology & Chemical Technology\, The Hong Kong Polytechnic Univ. - Chinese and Botanical Medicines: Myth or Treasure?
END:VEVENT
END:VCALENDAR