BEGIN:VCALENDAR
VERSION:2.0
PRODID:-//hacksw/handcal//NONSGML v1.0//EN
CALSCALE:GREGORIAN
BEGIN:VEVENT
DTSTART:20150306T183000Z
DTEND:20150306T183000Z
UID:e15638
DTSTAMP:20260425T124626Z
LOCATION:Michael Sela Auditorium
DESCRIPTION:"Michael"
SUMMARY:"Michael"
END:VEVENT
END:VCALENDAR