BEGIN:VCALENDAR
VERSION:2.0
PRODID:-//hacksw/handcal//NONSGML v1.0//EN
CALSCALE:GREGORIAN
BEGIN:VEVENT
DTSTART:19691231T160000Z
DTEND:19691231T160000Z
UID:e15657
DTSTAMP:20260419T182112Z
LOCATION:
DESCRIPTION:Single cell genomics
SUMMARY:Single cell genomics
END:VEVENT
END:VCALENDAR