BEGIN:VCALENDAR
VERSION:2.0
PRODID:-//hacksw/handcal//NONSGML v1.0//EN
CALSCALE:GREGORIAN
BEGIN:VEVENT
DTSTART:20150303T110000Z
DTEND:20150303T110000Z
UID:e15685
DTSTAMP:20260425T072010Z
LOCATION:Helen and Milton A. Kimmelman Building
DESCRIPTION:"Nucleosome dynamics studied by computer simulation and single molecule spectroscopy"
SUMMARY:"Nucleosome dynamics studied by computer simulation and single molecule spectroscopy"
END:VEVENT
END:VCALENDAR