BEGIN:VCALENDAR
VERSION:2.0
PRODID:-//hacksw/handcal//NONSGML v1.0//EN
CALSCALE:GREGORIAN
BEGIN:VEVENT
DTSTART:20150412T100000Z
DTEND:20150412T100000Z
UID:e15689
DTSTAMP:20260422T151205Z
LOCATION:Arthur and Rochelle Belfer Building for Biomedical Research
DESCRIPTION:A Metabolic Switch Turns ON Bone Development
SUMMARY:A Metabolic Switch Turns ON Bone Development
END:VEVENT
END:VCALENDAR